Package: microbiomeDASim Version: 1.20.0 Command: /Library/Frameworks/R.framework/Resources/bin/R CMD check --install=check:microbiomeDASim.install-out.txt --library=/Library/Frameworks/R.framework/Resources/library --no-vignettes --timings microbiomeDASim_1.20.0.tar.gz StartedAt: 2025-04-02 00:42:59 -0400 (Wed, 02 Apr 2025) EndedAt: 2025-04-02 00:47:01 -0400 (Wed, 02 Apr 2025) EllapsedTime: 241.5 seconds RetCode: 0 Status: OK CheckDir: microbiomeDASim.Rcheck Warnings: 0