Package: microbiomeDASim Version: 1.20.0 Command: /Library/Frameworks/R.framework/Resources/bin/R CMD build --keep-empty-dirs --no-resave-data microbiomeDASim StartedAt: 2025-04-01 03:06:00 -0400 (Tue, 01 Apr 2025) EndedAt: 2025-04-01 03:06:59 -0400 (Tue, 01 Apr 2025) EllapsedTime: 59.0 seconds RetCode: 0 Status: OK PackageFile: microbiomeDASim_1.20.0.tar.gz PackageFileSize: 1.498 MiB