Package: microbiome Version: 1.28.0 Command: chmod a+r microbiome -R && F:\biocbuild\bbs-3.20-bioc\R\bin\R.exe CMD build --keep-empty-dirs --no-resave-data microbiome StartedAt: 2025-03-31 20:08:50 -0400 (Mon, 31 Mar 2025) EndedAt: 2025-03-31 20:09:59 -0400 (Mon, 31 Mar 2025) EllapsedTime: 69.6 seconds RetCode: 0 Status: OK PackageFile: microbiome_1.28.0.tar.gz PackageFileSize: 714 KiB