Package: microbiome Version: 1.28.0 Command: /home/biocbuild/bbs-3.20-bioc/R/bin/R CMD check --install=check:microbiome.install-out.txt --library=/home/biocbuild/bbs-3.20-bioc/R/site-library --timings microbiome_1.28.0.tar.gz StartedAt: 2025-03-31 23:52:39 -0400 (Mon, 31 Mar 2025) EndedAt: 2025-03-31 23:55:51 -0400 (Mon, 31 Mar 2025) EllapsedTime: 192.2 seconds RetCode: 0 Status: OK CheckDir: microbiome.Rcheck Warnings: 0