Package: microbiome Version: 1.28.0 Command: /Library/Frameworks/R.framework/Resources/bin/R CMD check --install=check:microbiome.install-out.txt --library=/Library/Frameworks/R.framework/Resources/library --no-vignettes --timings microbiome_1.28.0.tar.gz StartedAt: 2025-04-02 00:41:47 -0400 (Wed, 02 Apr 2025) EndedAt: 2025-04-02 00:45:13 -0400 (Wed, 02 Apr 2025) EllapsedTime: 205.3 seconds RetCode: 1 Status: ERROR CheckDir: microbiome.Rcheck Warnings: NA