Package: miaViz Version: 1.14.0 Command: /home/biocbuild/R/R/bin/R CMD build --keep-empty-dirs --no-resave-data miaViz StartedAt: 2025-04-01 00:46:14 -0000 (Tue, 01 Apr 2025) EndedAt: 2025-04-01 00:48:32 -0000 (Tue, 01 Apr 2025) EllapsedTime: 138.1 seconds RetCode: 0 Status: OK PackageFile: miaViz_1.14.0.tar.gz PackageFileSize: 1.341 MiB