Package: miaViz Version: 1.14.0 Command: F:\biocbuild\bbs-3.20-bioc\R\bin\R.exe CMD INSTALL miaViz StartedAt: 2025-03-31 16:55:31 -0400 (Mon, 31 Mar 2025) EndedAt: 2025-03-31 16:56:45 -0400 (Mon, 31 Mar 2025) EllapsedTime: 74.0 seconds RetCode: 0 Status: OK