Package: miaViz Version: 1.14.0 Command: /Library/Frameworks/R.framework/Resources/bin/R CMD INSTALL miaViz StartedAt: 2025-03-31 17:46:02 -0400 (Mon, 31 Mar 2025) EndedAt: 2025-03-31 17:46:52 -0400 (Mon, 31 Mar 2025) EllapsedTime: 50.8 seconds RetCode: 0 Status: OK