Package: miaViz Version: 1.14.0 Command: /Library/Frameworks/R.framework/Resources/bin/R CMD check --install=check:miaViz.install-out.txt --library=/Library/Frameworks/R.framework/Resources/library --no-vignettes --timings miaViz_1.14.0.tar.gz StartedAt: 2025-04-02 00:40:53 -0400 (Wed, 02 Apr 2025) EndedAt: 2025-04-02 00:49:55 -0400 (Wed, 02 Apr 2025) EllapsedTime: 542.3 seconds RetCode: 0 Status: OK CheckDir: miaViz.Rcheck Warnings: 0