Package: miaSim Version: 1.12.0 Command: /home/biocbuild/bbs-3.20-bioc/R/bin/R CMD build --keep-empty-dirs --no-resave-data --md5 miaSim StartedAt: 2025-03-31 18:01:17 -0400 (Mon, 31 Mar 2025) EndedAt: 2025-03-31 18:02:11 -0400 (Mon, 31 Mar 2025) EllapsedTime: 54.1 seconds RetCode: 0 Status: OK PackageFile: miaSim_1.12.0.tar.gz PackageFileSize: 565.2 KiB