Package: miaSim Version: 1.12.0 Command: /Library/Frameworks/R.framework/Resources/bin/R CMD build --keep-empty-dirs --no-resave-data miaSim StartedAt: 2025-04-01 03:04:38 -0400 (Tue, 01 Apr 2025) EndedAt: 2025-04-01 03:05:44 -0400 (Tue, 01 Apr 2025) EllapsedTime: 65.4 seconds RetCode: 0 Status: OK PackageFile: miaSim_1.12.0.tar.gz PackageFileSize: 575.7 KiB