Package: miRspongeR Version: 2.10.0 Command: /home/biocbuild/R/R/bin/R CMD INSTALL miRspongeR StartedAt: 2025-03-31 21:12:30 -0000 (Mon, 31 Mar 2025) EndedAt: 2025-03-31 21:13:09 -0000 (Mon, 31 Mar 2025) EllapsedTime: 39.4 seconds RetCode: 0 Status: OK