Package: miRspongeR Version: 2.10.0 Command: /Library/Frameworks/R.framework/Resources/bin/R CMD check --install=check:miRspongeR.install-out.txt --library=/Library/Frameworks/R.framework/Resources/library --no-vignettes --timings miRspongeR_2.10.0.tar.gz StartedAt: 2025-04-02 01:08:57 -0400 (Wed, 02 Apr 2025) EndedAt: 2025-04-02 01:14:33 -0400 (Wed, 02 Apr 2025) EllapsedTime: 336.3 seconds RetCode: 0 Status: OK CheckDir: miRspongeR.Rcheck Warnings: 0