Package: miRspongeR Version: 2.10.0 Command: rm -rf miRspongeR.buildbin-libdir && mkdir miRspongeR.buildbin-libdir && /Users/biocbuild/BBS/utils/build-universal.sh miRspongeR_2.10.0.tar.gz /Library/Frameworks/R.framework/Resources/bin/R miRspongeR.buildbin-libdir StartedAt: 2025-04-02 15:12:31 -0400 (Wed, 02 Apr 2025) EndedAt: 2025-04-02 15:13:16 -0400 (Wed, 02 Apr 2025) EllapsedTime: 44.1 seconds RetCode: 0 Status: OK PackageFile: miRspongeR_2.10.0.tgz PackageFileSize: 796.3 KiB