Package: miRcomp Version: 1.36.0 Command: F:\biocbuild\bbs-3.20-bioc\R\bin\R.exe CMD INSTALL miRcomp StartedAt: 2025-03-31 16:31:29 -0400 (Mon, 31 Mar 2025) EndedAt: 2025-03-31 16:31:43 -0400 (Mon, 31 Mar 2025) EllapsedTime: 14.1 seconds RetCode: 0 Status: OK