Package: miRcomp Version: 1.36.0 Command: /home/biocbuild/bbs-3.20-bioc/R/bin/R CMD INSTALL miRcomp StartedAt: 2025-03-31 15:43:12 -0400 (Mon, 31 Mar 2025) EndedAt: 2025-03-31 15:43:16 -0400 (Mon, 31 Mar 2025) EllapsedTime: 3.9 seconds RetCode: 0 Status: OK