Package: miRcomp Version: 1.36.0 Command: /Library/Frameworks/R.framework/Resources/bin/R CMD build --keep-empty-dirs --no-resave-data miRcomp StartedAt: 2025-04-01 03:12:38 -0400 (Tue, 01 Apr 2025) EndedAt: 2025-04-01 03:13:17 -0400 (Tue, 01 Apr 2025) EllapsedTime: 39.3 seconds RetCode: 0 Status: OK PackageFile: miRcomp_1.36.0.tar.gz PackageFileSize: 3.321 MiB