Package: miRSM Version: 2.2.0 Command: /home/biocbuild/R/R/bin/R CMD INSTALL miRSM StartedAt: 2025-03-31 21:02:08 -0000 (Mon, 31 Mar 2025) EndedAt: 2025-03-31 21:02:09 -0000 (Mon, 31 Mar 2025) EllapsedTime: 0.9 seconds RetCode: 1 Status: ERROR