Package: miRSM Version: 2.2.0 Command: rm -rf miRSM.buildbin-libdir && mkdir miRSM.buildbin-libdir && F:\biocbuild\bbs-3.20-bioc\R\bin\R.exe CMD INSTALL --build --library=miRSM.buildbin-libdir miRSM_2.2.0.tar.gz StartedAt: 2025-04-01 08:38:15 -0400 (Tue, 01 Apr 2025) EndedAt: 2025-04-01 08:39:31 -0400 (Tue, 01 Apr 2025) EllapsedTime: 76.4 seconds RetCode: 0 Status: OK PackageFile: miRSM_2.2.0.zip PackageFileSize: 1.037 MiB