Package: miRSM Version: 2.2.0 Command: rm -rf miRSM.buildbin-libdir && mkdir miRSM.buildbin-libdir && /Users/biocbuild/BBS/utils/build-universal.sh miRSM_2.2.0.tar.gz /Library/Frameworks/R.framework/Resources/bin/R miRSM.buildbin-libdir StartedAt: 2025-04-02 15:12:23 -0400 (Wed, 02 Apr 2025) EndedAt: 2025-04-02 15:13:34 -0400 (Wed, 02 Apr 2025) EllapsedTime: 70.4 seconds RetCode: 0 Status: OK PackageFile: miRSM_2.2.0.tgz PackageFileSize: 1.031 MiB