Package: miRNAtap Version: 1.40.0 Command: /home/biocbuild/R/R/bin/R CMD INSTALL miRNAtap StartedAt: 2025-03-31 20:30:28 -0000 (Mon, 31 Mar 2025) EndedAt: 2025-03-31 20:30:46 -0000 (Mon, 31 Mar 2025) EllapsedTime: 17.0 seconds RetCode: 0 Status: OK