Package: miRNAtap Version: 1.40.0 Command: /home/biocbuild/R/R/bin/R CMD check --install=check:miRNAtap.install-out.txt --library=/home/biocbuild/R/R/site-library --no-vignettes --timings miRNAtap_1.40.0.tar.gz StartedAt: 2025-04-01 08:23:27 -0000 (Tue, 01 Apr 2025) EndedAt: 2025-04-01 08:25:52 -0000 (Tue, 01 Apr 2025) EllapsedTime: 145.2 seconds RetCode: 0 Status: OK CheckDir: miRNAtap.Rcheck Warnings: 0