Package: miRNAtap Version: 1.40.0 Command: F:\biocbuild\bbs-3.20-bioc\R\bin\R.exe CMD check --no-multiarch --install=check:miRNAtap.install-out.txt --library=F:\biocbuild\bbs-3.20-bioc\R\library --no-vignettes --timings miRNAtap_1.40.0.tar.gz StartedAt: 2025-04-01 03:32:12 -0400 (Tue, 01 Apr 2025) EndedAt: 2025-04-01 03:34:25 -0400 (Tue, 01 Apr 2025) EllapsedTime: 133.6 seconds RetCode: 0 Status: OK CheckDir: miRNAtap.Rcheck Warnings: 0