Package: miRNAtap Version: 1.40.0 Command: rm -rf miRNAtap.buildbin-libdir && mkdir miRNAtap.buildbin-libdir && F:\biocbuild\bbs-3.20-bioc\R\bin\R.exe CMD INSTALL --build --library=miRNAtap.buildbin-libdir miRNAtap_1.40.0.tar.gz StartedAt: 2025-04-01 08:38:12 -0400 (Tue, 01 Apr 2025) EndedAt: 2025-04-01 08:38:39 -0400 (Tue, 01 Apr 2025) EllapsedTime: 27.4 seconds RetCode: 0 Status: OK PackageFile: miRNAtap_1.40.0.zip PackageFileSize: 446.3 KiB