Package: miRNAtap Version: 1.40.0 Command: /Library/Frameworks/R.framework/Resources/bin/R CMD INSTALL miRNAtap StartedAt: 2025-03-31 15:47:48 -0400 (Mon, 31 Mar 2025) EndedAt: 2025-03-31 15:48:07 -0400 (Mon, 31 Mar 2025) EllapsedTime: 19.2 seconds RetCode: 0 Status: OK