Package: miRNApath Version: 1.66.0 Command: /Library/Frameworks/R.framework/Resources/bin/R CMD check --install=check:miRNApath.install-out.txt --library=/Library/Frameworks/R.framework/Resources/library --no-vignettes --timings miRNApath_1.66.0.tar.gz StartedAt: 2025-04-01 05:44:46 -0400 (Tue, 01 Apr 2025) EndedAt: 2025-04-01 05:46:29 -0400 (Tue, 01 Apr 2025) EllapsedTime: 102.9 seconds RetCode: 0 Status: OK CheckDir: miRNApath.Rcheck Warnings: 0