Package: miRNApath Version: 1.66.0 Command: rm -rf miRNApath.buildbin-libdir && mkdir miRNApath.buildbin-libdir && /Users/biocbuild/BBS/utils/build-universal.sh miRNApath_1.66.0.tar.gz /Library/Frameworks/R.framework/Resources/bin/R miRNApath.buildbin-libdir StartedAt: 2025-04-01 12:15:28 -0400 (Tue, 01 Apr 2025) EndedAt: 2025-04-01 12:15:35 -0400 (Tue, 01 Apr 2025) EllapsedTime: 6.8 seconds RetCode: 0 Status: OK PackageFile: miRNApath_1.66.0.tgz PackageFileSize: 830.8 KiB