Package: miRNApath Version: 1.66.0 Command: /Library/Frameworks/R.framework/Resources/bin/R CMD INSTALL miRNApath StartedAt: 2025-03-31 15:03:25 -0400 (Mon, 31 Mar 2025) EndedAt: 2025-03-31 15:03:29 -0400 (Mon, 31 Mar 2025) EllapsedTime: 3.7 seconds RetCode: 0 Status: OK