Package: miRNApath Version: 1.66.0 Command: rm -rf miRNApath.buildbin-libdir && mkdir miRNApath.buildbin-libdir && /Users/biocbuild/BBS/utils/build-universal.sh miRNApath_1.66.0.tar.gz /Library/Frameworks/R.framework/Resources/bin/R miRNApath.buildbin-libdir StartedAt: 2025-04-02 15:12:15 -0400 (Wed, 02 Apr 2025) EndedAt: 2025-04-02 15:12:20 -0400 (Wed, 02 Apr 2025) EllapsedTime: 4.6 seconds RetCode: 0 Status: OK PackageFile: miRNApath_1.66.0.tgz PackageFileSize: 831.1 KiB