Package: miRNAmeConverter Version: 1.34.0 Command: /home/biocbuild/R/R/bin/R CMD INSTALL miRNAmeConverter StartedAt: 2025-03-31 20:29:15 -0000 (Mon, 31 Mar 2025) EndedAt: 2025-03-31 20:29:34 -0000 (Mon, 31 Mar 2025) EllapsedTime: 18.9 seconds RetCode: 0 Status: OK