Package: miRNAmeConverter Version: 1.34.0 Command: rm -rf miRNAmeConverter.buildbin-libdir && mkdir miRNAmeConverter.buildbin-libdir && F:\biocbuild\bbs-3.20-bioc\R\bin\R.exe CMD INSTALL --build --library=miRNAmeConverter.buildbin-libdir miRNAmeConverter_1.34.0.tar.gz StartedAt: 2025-04-01 08:38:06 -0400 (Tue, 01 Apr 2025) EndedAt: 2025-04-01 08:39:10 -0400 (Tue, 01 Apr 2025) EllapsedTime: 64.6 seconds RetCode: 0 Status: OK PackageFile: miRNAmeConverter_1.34.0.zip PackageFileSize: 583.7 KiB