Package: miRBaseConverter Version: 1.30.0 Command: /home/biocbuild/R/R/bin/R CMD check --install=check:miRBaseConverter.install-out.txt --library=/home/biocbuild/R/R/site-library --no-vignettes --timings miRBaseConverter_1.30.0.tar.gz StartedAt: 2025-04-01 08:21:27 -0000 (Tue, 01 Apr 2025) EndedAt: 2025-04-01 08:22:08 -0000 (Tue, 01 Apr 2025) EllapsedTime: 41.0 seconds RetCode: 0 Status: OK CheckDir: miRBaseConverter.Rcheck Warnings: 0