Package: miQC Version: 1.14.0 Command: /home/biocbuild/R/R/bin/R CMD INSTALL miQC StartedAt: 2025-03-31 20:22:47 -0000 (Mon, 31 Mar 2025) EndedAt: 2025-03-31 20:23:18 -0000 (Mon, 31 Mar 2025) EllapsedTime: 30.8 seconds RetCode: 0 Status: OK