Package: miQC Version: 1.14.0 Command: /Library/Frameworks/R.framework/Resources/bin/R CMD build --keep-empty-dirs --no-resave-data miQC StartedAt: 2025-03-31 20:05:09 -0400 (Mon, 31 Mar 2025) EndedAt: 2025-03-31 20:07:49 -0400 (Mon, 31 Mar 2025) EllapsedTime: 160.3 seconds RetCode: 0 Status: OK PackageFile: miQC_1.14.0.tar.gz PackageFileSize: 3.079 MiB