Package: mfa Version: 1.28.0 Command: /home/biocbuild/R/R/bin/R CMD INSTALL mfa StartedAt: 2025-03-31 20:53:28 -0000 (Mon, 31 Mar 2025) EndedAt: 2025-03-31 20:53:53 -0000 (Mon, 31 Mar 2025) EllapsedTime: 24.8 seconds RetCode: 0 Status: OK