Package: mfa Version: 1.28.0 Command: /Library/Frameworks/R.framework/Resources/bin/R CMD check --install=check:mfa.install-out.txt --library=/Library/Frameworks/R.framework/Resources/library --no-vignettes --timings mfa_1.28.0.tar.gz StartedAt: 2025-04-01 05:31:29 -0400 (Tue, 01 Apr 2025) EndedAt: 2025-04-01 05:34:02 -0400 (Tue, 01 Apr 2025) EllapsedTime: 152.7 seconds RetCode: 0 Status: OK CheckDir: mfa.Rcheck Warnings: 0