Package: methylumi Version: 2.52.0 Command: /home/biocbuild/R/R/bin/R CMD INSTALL methylumi StartedAt: 2025-03-31 21:05:28 -0000 (Mon, 31 Mar 2025) EndedAt: 2025-03-31 21:06:42 -0000 (Mon, 31 Mar 2025) EllapsedTime: 74.1 seconds RetCode: 0 Status: OK