Package: methylumi Version: 2.52.0 Command: /home/biocbuild/R/R/bin/R CMD build --keep-empty-dirs --no-resave-data methylumi StartedAt: 2025-04-01 00:44:59 -0000 (Tue, 01 Apr 2025) EndedAt: 2025-04-01 00:49:24 -0000 (Tue, 01 Apr 2025) EllapsedTime: 264.1 seconds RetCode: 0 Status: OK PackageFile: methylumi_2.52.0.tar.gz PackageFileSize: 7.335 MiB