Package: methylumi Version: 2.52.0 Command: /Library/Frameworks/R.framework/Resources/bin/R CMD build --keep-empty-dirs --no-resave-data methylumi StartedAt: 2025-03-31 19:59:54 -0400 (Mon, 31 Mar 2025) EndedAt: 2025-03-31 20:06:38 -0400 (Mon, 31 Mar 2025) EllapsedTime: 404.8 seconds RetCode: 0 Status: OK PackageFile: methylumi_2.52.0.tar.gz PackageFileSize: 7.342 MiB