Package: methylscaper Version: 1.14.0 Command: /home/biocbuild/R/R/bin/R CMD check --install=check:methylscaper.install-out.txt --library=/home/biocbuild/R/R/site-library --no-vignettes --timings methylscaper_1.14.0.tar.gz StartedAt: 2025-04-01 08:11:41 -0000 (Tue, 01 Apr 2025) EndedAt: 2025-04-01 08:15:28 -0000 (Tue, 01 Apr 2025) EllapsedTime: 227.2 seconds RetCode: 0 Status: OK CheckDir: methylscaper.Rcheck Warnings: 0