Package: methylscaper Version: 1.14.0 Command: /Library/Frameworks/R.framework/Resources/bin/R CMD check --install=check:methylscaper.install-out.txt --library=/Library/Frameworks/R.framework/Resources/library --no-vignettes --timings methylscaper_1.14.0.tar.gz StartedAt: 2025-04-01 05:29:29 -0400 (Tue, 01 Apr 2025) EndedAt: 2025-04-01 05:35:47 -0400 (Tue, 01 Apr 2025) EllapsedTime: 377.8 seconds RetCode: 0 Status: OK CheckDir: methylscaper.Rcheck Warnings: 0