Package: methylclock Version: 1.12.0 Command: /Library/Frameworks/R.framework/Resources/bin/R CMD build --keep-empty-dirs --no-resave-data methylclock StartedAt: 2025-04-01 02:55:19 -0400 (Tue, 01 Apr 2025) EndedAt: 2025-04-01 03:03:42 -0400 (Tue, 01 Apr 2025) EllapsedTime: 503.8 seconds RetCode: 1 Status: ERROR PackageFile: None PackageFileSize: NA