Package: methylSig Version: 1.18.0 Command: /home/biocbuild/R/R/bin/R CMD build --keep-empty-dirs --no-resave-data methylSig StartedAt: 2025-04-01 00:44:32 -0000 (Tue, 01 Apr 2025) EndedAt: 2025-04-01 00:46:12 -0000 (Tue, 01 Apr 2025) EllapsedTime: 99.0 seconds RetCode: 0 Status: OK PackageFile: methylSig_1.18.0.tar.gz PackageFileSize: 541.1 KiB