Package: methylSig Version: 1.18.0 Command: /home/biocbuild/bbs-3.20-bioc/R/bin/R CMD check --install=check:methylSig.install-out.txt --library=/home/biocbuild/bbs-3.20-bioc/R/site-library --timings methylSig_1.18.0.tar.gz StartedAt: 2025-03-31 23:48:49 -0400 (Mon, 31 Mar 2025) EndedAt: 2025-03-31 23:55:01 -0400 (Mon, 31 Mar 2025) EllapsedTime: 372.3 seconds RetCode: 0 Status: OK CheckDir: methylSig.Rcheck Warnings: 0