Package: methylSig Version: 1.18.0 Command: /home/biocbuild/bbs-3.20-bioc/R/bin/R CMD build --keep-empty-dirs --no-resave-data --md5 methylSig StartedAt: 2025-03-31 17:59:56 -0400 (Mon, 31 Mar 2025) EndedAt: 2025-03-31 18:01:17 -0400 (Mon, 31 Mar 2025) EllapsedTime: 80.1 seconds RetCode: 0 Status: OK PackageFile: methylSig_1.18.0.tar.gz PackageFileSize: 494.2 KiB