Package: methylPipe Version: 1.40.0 Command: /home/biocbuild/R/R/bin/R CMD INSTALL methylPipe StartedAt: 2025-03-31 20:48:06 -0000 (Mon, 31 Mar 2025) EndedAt: 2025-03-31 20:49:17 -0000 (Mon, 31 Mar 2025) EllapsedTime: 71.0 seconds RetCode: 0 Status: OK