Package: methylMnM Version: 1.44.0 Command: /home/biocbuild/bbs-3.20-bioc/R/bin/R CMD INSTALL methylMnM StartedAt: 2025-03-31 15:12:21 -0400 (Mon, 31 Mar 2025) EndedAt: 2025-03-31 15:12:30 -0400 (Mon, 31 Mar 2025) EllapsedTime: 9.4 seconds RetCode: 0 Status: OK