Package: methylMnM Version: 1.44.0 Command: /home/biocbuild/bbs-3.20-bioc/R/bin/R CMD check --install=check:methylMnM.install-out.txt --library=/home/biocbuild/bbs-3.20-bioc/R/site-library --timings methylMnM_1.44.0.tar.gz StartedAt: 2025-03-31 23:48:27 -0400 (Mon, 31 Mar 2025) EndedAt: 2025-03-31 23:49:39 -0400 (Mon, 31 Mar 2025) EllapsedTime: 72.1 seconds RetCode: 0 Status: OK CheckDir: methylMnM.Rcheck Warnings: 0