Package: methylMnM Version: 1.44.0 Command: /Library/Frameworks/R.framework/Resources/bin/R CMD check --install=check:methylMnM.install-out.txt --library=/Library/Frameworks/R.framework/Resources/library --no-vignettes --timings methylMnM_1.44.0.tar.gz StartedAt: 2025-04-02 00:31:14 -0400 (Wed, 02 Apr 2025) EndedAt: 2025-04-02 00:31:52 -0400 (Wed, 02 Apr 2025) EllapsedTime: 38.3 seconds RetCode: 0 Status: OK CheckDir: methylMnM.Rcheck Warnings: 0