Package: methylKit Version: 1.32.1 Command: F:\biocbuild\bbs-3.20-bioc\R\bin\R.exe CMD check --no-multiarch --install=check:methylKit.install-out.txt --library=F:\biocbuild\bbs-3.20-bioc\R\library --no-vignettes --timings methylKit_1.32.1.tar.gz StartedAt: 2025-04-01 03:20:12 -0400 (Tue, 01 Apr 2025) EndedAt: 2025-04-01 03:29:37 -0400 (Tue, 01 Apr 2025) EllapsedTime: 565.3 seconds RetCode: 0 Status: OK CheckDir: methylKit.Rcheck Warnings: 0